BEGIN:VCALENDAR
VERSION:2.0
PRODID:-//Genedge - ECPv6.15.9//NONSGML v1.0//EN
CALSCALE:GREGORIAN
METHOD:PUBLISH
X-WR-CALNAME:Genedge
X-ORIGINAL-URL:https://genedge.org
X-WR-CALDESC:Events for Genedge
REFRESH-INTERVAL;VALUE=DURATION:PT1H
X-Robots-Tag:noindex
X-PUBLISHED-TTL:PT1H
BEGIN:VTIMEZONE
TZID:America/New_York
BEGIN:DAYLIGHT
TZOFFSETFROM:-0500
TZOFFSETTO:-0400
TZNAME:EDT
DTSTART:20250309T070000
END:DAYLIGHT
BEGIN:STANDARD
TZOFFSETFROM:-0400
TZOFFSETTO:-0500
TZNAME:EST
DTSTART:20251102T060000
END:STANDARD
BEGIN:DAYLIGHT
TZOFFSETFROM:-0500
TZOFFSETTO:-0400
TZNAME:EDT
DTSTART:20260308T070000
END:DAYLIGHT
BEGIN:STANDARD
TZOFFSETFROM:-0400
TZOFFSETTO:-0500
TZNAME:EST
DTSTART:20261101T060000
END:STANDARD
BEGIN:DAYLIGHT
TZOFFSETFROM:-0500
TZOFFSETTO:-0400
TZNAME:EDT
DTSTART:20270314T070000
END:DAYLIGHT
BEGIN:STANDARD
TZOFFSETFROM:-0400
TZOFFSETTO:-0500
TZNAME:EST
DTSTART:20271107T060000
END:STANDARD
END:VTIMEZONE
BEGIN:VEVENT
DTSTART;TZID=America/New_York:20260513T080000
DTEND;TZID=America/New_York:20260513T120000
DTSTAMP:20260422T160101
CREATED:20260216T193356Z
LAST-MODIFIED:20260313T203730Z
UID:10000067-1778659200-1778673600@genedge.org
SUMMARY:Hands-On Process Improvement Workshop (Half-Day) for Spanish Speakers
DESCRIPTION:This half-day\, hands-on\, spanish langauage workshop introduces proven process improvement methods through an interactive manufacturing simulation. Participants will learn how to identify value-added versus non-value-added work\, reduce waste\, improve flow\, and align production to customer demand. Through multiple simulation rounds\, attendees apply tools such as process mapping\, workplace organization\, standard work\, visual management\, and pull systems to see how small changes can significantly improve efficiency\, reduce costs\, and improve overall performance. \nEste taller practico en español\, en medio día presentará métodos de mejora de procesos comprobados vía una simulación interactiva de un proceso de manufactura. Los participantes aprenderán a distinguir entre el trabajo que agrega valor y el que no\, a reducir el desperdicio\, mejorar el flujo\, y alinear la producción a la demanda del cliente. A través de múltiples rondas de simulación\, los asistentes aplicarán herramientas como el mapeo de procesos\, la organización del lugar de trabajo\, aplicación de trabajo estándar\, la gestión visual y los sistemas “pull”. Verán cómo pequeños cambios pueden mejorar significativamente la eficiencia\, reducir costos y mejorar el rendimiento general. \nREGISTER HERE \nVirginia Western Community College\n3094 Colonial Avenue SW\nRoanoke\, VA 24015\nStem Building – Room 214 \nThis $275 per person training is offered at NO-COST through a GENEDGE partnership with Virginia Western Community College and the Greater Roanoke Workforce Development Board. \nSpace Is limited!
URL:https://genedge.org/events-calendar/hands-on-process-improvement-workshop-half-day-delivered-in-spanish/
LOCATION:Virginia Western Community College\, 3094 Colonial Ave SW\, Roanoke\, VA\, 24015
CATEGORIES:In-Person
ATTACH;FMTTYPE=image/png:https://genedge.org/wp-content/uploads/2026/02/Half-Day-Lean-102-Template-with-side-bar-w-Francisco.png
END:VEVENT
BEGIN:VEVENT
DTSTART;TZID=America/New_York:20260520T080000
DTEND;TZID=America/New_York:20260520T120000
DTSTAMP:20260422T160101
CREATED:20260216T192841Z
LAST-MODIFIED:20260313T203853Z
UID:10000066-1779264000-1779278400@genedge.org
SUMMARY:Hands-On Process Improvement Workshop (Half-Day)
DESCRIPTION:This half-day\, hands-on workshop introduces proven process improvement methods through an interactive manufacturing simulation. Participants will learn how to identify value-added versus non-value-added work\, reduce waste\, improve flow\, and align production to customer demand. Through multiple simulation rounds\, attendees apply tools such as process mapping\, workplace organization\, standard work\, visual management\, and pull systems to see how small changes can significantly improve efficiency\, reduce costs\, and improve overall performance. \nREGISTER HERE \n 
URL:https://genedge.org/events-calendar/hands-on-process-improvement-workshop-half-day-2/
LOCATION:Lynchburg Regional Business Alliance\, 300 Lucado Pl\, Lynchburg\, VA\, 24504\, United States
CATEGORIES:In-Person
ATTACH;FMTTYPE=image/png:https://genedge.org/wp-content/uploads/2026/02/Half-Day-Lean-102-Template-with-side-bar-w-Jeff-Shook.png
END:VEVENT
END:VCALENDAR