BEGIN:VCALENDAR
VERSION:2.0
PRODID:-//Genedge - ECPv6.15.9//NONSGML v1.0//EN
CALSCALE:GREGORIAN
METHOD:PUBLISH
X-ORIGINAL-URL:https://genedge.org
X-WR-CALDESC:Events for Genedge
REFRESH-INTERVAL;VALUE=DURATION:PT1H
X-Robots-Tag:noindex
X-PUBLISHED-TTL:PT1H
BEGIN:VTIMEZONE
TZID:America/New_York
BEGIN:DAYLIGHT
TZOFFSETFROM:-0500
TZOFFSETTO:-0400
TZNAME:EDT
DTSTART:20220313T070000
END:DAYLIGHT
BEGIN:STANDARD
TZOFFSETFROM:-0400
TZOFFSETTO:-0500
TZNAME:EST
DTSTART:20221106T060000
END:STANDARD
BEGIN:DAYLIGHT
TZOFFSETFROM:-0500
TZOFFSETTO:-0400
TZNAME:EDT
DTSTART:20230312T070000
END:DAYLIGHT
BEGIN:STANDARD
TZOFFSETFROM:-0400
TZOFFSETTO:-0500
TZNAME:EST
DTSTART:20231105T060000
END:STANDARD
BEGIN:DAYLIGHT
TZOFFSETFROM:-0500
TZOFFSETTO:-0400
TZNAME:EDT
DTSTART:20240310T070000
END:DAYLIGHT
BEGIN:STANDARD
TZOFFSETFROM:-0400
TZOFFSETTO:-0500
TZNAME:EST
DTSTART:20241103T060000
END:STANDARD
BEGIN:DAYLIGHT
TZOFFSETFROM:-0500
TZOFFSETTO:-0400
TZNAME:EDT
DTSTART:20250309T070000
END:DAYLIGHT
BEGIN:STANDARD
TZOFFSETFROM:-0400
TZOFFSETTO:-0500
TZNAME:EST
DTSTART:20251102T060000
END:STANDARD
END:VTIMEZONE
BEGIN:VEVENT
DTSTART;TZID=America/New_York:20240912T130000
DTEND;TZID=America/New_York:20241121T170000
DTSTAMP:20260422T110103
CREATED:20230727T213635Z
LAST-MODIFIED:20241018T231253Z
UID:10000012-1726146000-1732208400@genedge.org
SUMMARY:Six Course Leadership Training Series
DESCRIPTION:Drive results with stronger frontline leaders!\nRegistration is Closed for This Event –\nFor information or questions about the Leadership training please contact: \nBert Eades (276) 734.6291 bert.eades@genedge.org \nSix Course Leadership Training Series\nDrive results through stronger frontline leaders! \nJoin us for an exclusive 6-course leadership training series tailored specifically for the dynamic manufacturing sector! Dive deep into the core tenets of leadership and learn how to navigate\, inspire\, and drive growth within your manufacturing company. Whether you’re a mid-level manager\, a frontline supervisor\, or preparing for a supervisory role\, this series is designed with you in mind. \nWhat You Will Gain: \n\nLeadership Foundations\nEfficient operational strategies\nThe power of data-driven decisions\nEmbracing technology and innovation\nTeam Dynamics and Effective Communication\nStrategic Planning & Vision\nChange Management in Manufacturing\nDeveloping a Leadership Legacy\n\nBeneficial for any professional seeking to: Become a good (or better) leader. Equip yourself with industry-specific leadership skills. Network with fellow manufacturing professionals. Improve operational efficiency\, team dynamics\, and overall business performance. \nRefreshments Will Be Served. \nClasses will be on Thursday afternoons from 1 to 5 p.m. with the following schedule: \nSept. 12 – Communications: Connect Through Conversations \nSept. 26 – Coaching: Moving People Forward \nOct. 10 – Setting Goals and Reviewing Results \nOct. 24 – Addressing Poor Performance \nNov. 7 – Building and Sustaining Trust \nNov. 21 – Resolving Workplace Conflict \nThis course is ideal for: \n\nMid-level managers: Professionals who are already in leadership roles and are looking to refine their skills.\nFrontline supervisors: Those who are at the grassroots of operations and are responsible for immediate decision-making.\nAspiring supervisors: Employees looking to move up the ladder and take on more managerial roles.\n\nClasses Are capped at 20 for this session | Cost for all six classes is $1\,500 per person\nFor information or questions about the Leadership training please contact: \nBert Eades (276) 734.6291 bert.eades@genedge.org \nCo-sponsored by: GENEDGE \, Danville Community College & The Danville Pittsylvania County Chamber of Commerce. \nRegistration is Closed for This Event
URL:https://genedge.org/events-calendar/six-course-leadership-training-series-danville/
LOCATION:RCATT Regional Center for Advanced Technology & Training\, 121 Slayton Avenue\, Danville\, VA\, United States
CATEGORIES:In-Person
ATTACH;FMTTYPE=image/jpeg:https://genedge.org/wp-content/uploads/2024/01/Leadership-Training-Photos-Bert-2.jpg
END:VEVENT
BEGIN:VEVENT
DTSTART;TZID=America/New_York:20230517T130000
DTEND;TZID=America/New_York:20230517T140000
DTSTAMP:20260422T110103
CREATED:20230430T213651Z
LAST-MODIFIED:20240722T102527Z
UID:10000009-1684328400-1684332000@genedge.org
SUMMARY:FREE GENEDGE Webinar to Increase Job Shop Productivity and Due Date Performance
DESCRIPTION:WEBINAR: How to Get More Jobs Done Faster\nMay 17 at 1 pm ET\nRegister Today! 45-minute Webinar\, 1:00 PM ET\, May 17\, 2023\nAfter watching this webinar\, you will understand EXACTLY “How to get More Jobs Done Faster” in a highly custom job shop or machine shop. \nWe cover: \n\nHow shop scheduling is traditionally done and why it doesn’t work\nThe scheduling problems most shops encounter;\nThe mistakes most shops make when trying to schedule;\nThe Velocity Scheduling System approach\, based on Goldratt’s book The Goal\, and Lean concepts that work in job shops;\nThe Process of On-Going Improvement (POOGI) to identify how and where to apply Lean for real bottom-line results; and\nQuick action tips – What you can do NOW to improve!\n\nNothing is held back. During this webinar\, you will learn the full system and what to go and do TOMORROW! \nAlso\, webinar attendees can register for one of ten\, 14-week\, $15K Job Shop Coaching Program slots\, funded by a 75% GENEDGE scholarship.\nYou pay only $3\,750 if selected. – Don’t wait to register!\nPresenter:\nDr. Lisa Lang (“Dr. Lisa”) will be your webinar presenter. She is a Theory of Constraints and Lean Six Sigma Expert and worked with Dr. Eliyahu M. Goldratt\, author of The Goal and father of Theory of Constraints. Dr. Lisa has managed and then owned a custom job shop\, with decades of experience helping other job shops succeed and thrive. \n  \n  \nOver 500 custom manufacturers have implemented the approach Dr Lisa will share in this webinar!\n  \nRegister Today! 45-minute Webinar\, 1:00 PM ET\, May 17\, 2023\n 
URL:https://genedge.org/events-calendar/free-genedge-webinar-to-increase-job-shop-productivity-and-due-date-performance/
END:VEVENT
END:VCALENDAR